BEGIN:VCALENDAR
VERSION:2.0
PRODID:-//Plone.org//NONSGML plone.app.event//EN
X-WR-TIMEZONE:Europe/Madrid
BEGIN:VEVENT
SUMMARY:Activitat 12(v)14: Sessió informativa: Pràcticum Extern.
DTSTART;TZID=Europe/Madrid:20260422T120000
DTEND;TZID=Europe/Madrid:20260422T130000
DTSTAMP:20260421T020336Z
UID:5fd468a0682d4e0ba36b209edb5ab0bc@muei.etseib.masters.upc.edu
CONTACT:Francisco J. Burgos\, relacions.entorn.foot@upc.edu
CREATED:20260208T145126Z
DESCRIPTION:Sessió a càrrec d'en Marc Argilés\, Vicedegà de Cap d'Estu
 dis de Grau.
LAST-MODIFIED:20260208T172106Z
LOCATION:Sala de Audicions de la FOOT.
URL:https://muei.etseib.masters.upc.edu/151/euoot/ca/esdeveniments/activit
 at-12-v-14-sessio-informativa-practicum-extern
END:VEVENT
BEGIN:VEVENT
SUMMARY:Diada de Sant Jordi
DTSTART;VALUE=DATE:20260423
DTEND;VALUE=DATE:20260424
DTSTAMP:20260421T020336Z
UID:fd3fb96b52ac447dbfd33c813d2f11bb@muei.etseib.masters.upc.edu
CREATED:20250610T120908Z
LAST-MODIFIED:20250610T121013Z
URL:https://muei.etseib.masters.upc.edu/151/euoot/ca/esdeveniments/diada-d
 e-sant-jordi-1
END:VEVENT
BEGIN:VEVENT
SUMMARY:FOOT TALENT DAY
DTSTART;TZID=Europe/Madrid:20260429T120000
DTEND;TZID=Europe/Madrid:20260429T150000
DTSTAMP:20260421T020336Z
UID:dee1005d2c1c4a12b35f752dd1c07964@muei.etseib.masters.upc.edu
CONTACT:Francisco J. Burgos\, relacions.entorn.foot@upc.edu
CREATED:20260208T145326Z
DESCRIPTION:Fira laboral a càrrec de les empreses del sector òptic-optom
 etrista.
LAST-MODIFIED:20260208T172000Z
LOCATION:Pati gran de la Facultat d'Òptica i Optometria de Terrassa.
URL:https://muei.etseib.masters.upc.edu/151/euoot/ca/esdeveniments/foot-ta
 lent-day-1
END:VEVENT
BEGIN:VEVENT
SUMMARY:Activitat 12(v)14: Màsters i Doctorat a la FOOT.
DTSTART;TZID=Europe/Madrid:20260506T120000
DTEND;TZID=Europe/Madrid:20260506T140000
DTSTAMP:20260421T020336Z
UID:8ad68cb147e949d1ba1831f823583ae5@muei.etseib.masters.upc.edu
CONTACT:Francisco J. Burgos\, relacions.entorn.foot@upc.edu
CREATED:20260208T145703Z
DESCRIPTION:Sessió a càrrec de la Meritxell Vilaseca (MSc in Photonics)\
 , en Joan Carles Ondategui (Màster Universitari en Optometria i Ciències
  de la Visió)\, Flors Viñuela (Màster en Optometria Pediàtrica) i Llu
 ïsa Quevedo (Coordinadora del Programa de Doctorat en Enginyeria Òptica)
 .
LAST-MODIFIED:20260208T171853Z
LOCATION:Sala d'Audicions de la FOOT.
URL:https://muei.etseib.masters.upc.edu/151/euoot/ca/esdeveniments/activit
 at-12-v-14-masters-i-doctorat-a-la-foot
END:VEVENT
BEGIN:VEVENT
SUMMARY:Dia del campus
DTSTART;VALUE=DATE:20260508
DTEND;VALUE=DATE:20260509
DTSTAMP:20260421T020336Z
UID:eb56de2c13ad47ff97449d3f73426417@muei.etseib.masters.upc.edu
CREATED:20250610T114827Z
LAST-MODIFIED:20250610T114858Z
URL:https://muei.etseib.masters.upc.edu/151/euoot/ca/esdeveniments/dia-del
 -campus-1
END:VEVENT
BEGIN:VEVENT
SUMMARY:Dia mundial de la llum
DTSTART;VALUE=DATE:20260516
DTEND;VALUE=DATE:20260517
DTSTAMP:20260421T020336Z
UID:96bdfe41722b49efb78a942a04cd0f78@muei.etseib.masters.upc.edu
CREATED:20250610T114945Z
LAST-MODIFIED:20250610T115018Z
URL:https://muei.etseib.masters.upc.edu/151/euoot/ca/esdeveniments/dia-mun
 dial-de-la-llum-2
END:VEVENT
BEGIN:VEVENT
SUMMARY:Dia internacional contra la LGTBIQfòbia
DTSTART;VALUE=DATE:20260517
DTEND;VALUE=DATE:20260518
DTSTAMP:20260421T020336Z
UID:46203771e3c34f67ad84a462a282714c@muei.etseib.masters.upc.edu
CONTACT:Francisco J. Burgos\, relacions.entorn.foot@upc.edu\, https://foot
 .upc.edu/es/la-facultad/la-facultat/punt-lila-de-la-foot
CREATED:20250610T115434Z
LAST-MODIFIED:20250610T115611Z
URL:https://muei.etseib.masters.upc.edu/151/euoot/ca/esdeveniments/dia-int
 ernacional-contra-la-lgtbiqfobia
END:VEVENT
BEGIN:VEVENT
SUMMARY:Dia internacional LGTBIQ+
DTSTART;VALUE=DATE:20260628
DTEND;VALUE=DATE:20260629
DTSTAMP:20260421T020336Z
UID:c4dfa75db37349d29c37780e440feb7c@muei.etseib.masters.upc.edu
CREATED:20250610T115718Z
LAST-MODIFIED:20250610T120242Z
URL:https://muei.etseib.masters.upc.edu/151/euoot/ca/esdeveniments/dia-int
 ernacional-lgtbiq-2
END:VEVENT
BEGIN:VTIMEZONE
TZID:Europe/Madrid
X-LIC-LOCATION:Europe/Madrid
BEGIN:DAYLIGHT
DTSTART:20260329T030000
TZNAME:CEST
TZOFFSETFROM:+0100
TZOFFSETTO:+0200
END:DAYLIGHT
END:VTIMEZONE
END:VCALENDAR
